{"text_format":"1","workbook":"xlsx","n_sheets":12,"sheets":["Sheet2","操舵軸が1軸","操舵軸が全輪","前2軸が操舵輪の車両","車体が屈折する車両","操舵輪が鉄輪の車両","牽引車1","牽引車2","サイドカー等","3輪車","Sheet1","Sheet3"],"not_rendered":{"charts":0,"images":31,"macros":1,"external_links":0,"defined_names":0,"comments":0,"pivot_tables":0},"unopened":[],"bounds":{"document_bytes":16777216,"sheet_cells":100000,"rows_first":2000,"rows_last":500,"rows_between":2000,"halvings":0,"cell_chars":16384,"cell_head_chars":4096},"cells_cut":0,"cells_raw":0,"read":"whole","date_system":"1900"}

{"sheet":"Sheet2","index":0,"n_rows":0,"n_cols":0,"rows_kept":0,"cut":false,"hidden":true,"merged":[]}

{"sheet":"操舵軸が1軸","index":1,"n_rows":27,"n_cols":20,"rows_kept":27,"cut":false,"hidden":false,"merged":[[0,0,0,23],[4,9,5,14],[6,9,7,14],[8,9,9,14],[10,9,11,14],[4,15,5,15],[6,15,7,15],[8,15,9,15],[10,15,11,15],[4,19,5,19],[6,19,7,19],[8,19,9,19],[10,19,11,19],[4,16,5,18],[6,16,7,18],[8,16,9,18],[12,19,13,19],[21,1,22,2],[24,3,24,4],[24,7,24,8],[26,2,26,16],[10,16,11,18],[12,16,13,18],[17,0,17,5],[12,15,13,15],[12,9,13,14]]}
["舵取り車輪が一軸の車両の最小回転半径計算書"]
[]
[]
[]
[null,null,null,null,null,null,null,null,null,"最小回転半径",null,null,null,null,null,"R",{"$f":"D25","v":""},null,null,"m"]
[]
[null,null,null,null,null,null,null,null,null,"軸距",null,null,null,null,null,"L",{"$f":"IF(Sheet1!M15=0,\"\",Sheet1!M15)","v":""},null,null,"m"]
[]
[null,null,null,null,null,null,null,null,null,"舵取り車輪の輪距",null,null,null,null,null,"Tf",{"$f":"IF(Sheet1!M16=0,\"\",Sheet1!M16)","v":""},null,null,"m"]
[]
[null,null,null,null,null,null,null,null,null,"外側車輪の舵取り角度",null,null,null,null,null,"α",{"$f":"IF(Sheet1!M17=0,\"\",Sheet1!M17)","v":""},null,null,"°"]
[]
[null,null,null,null,null,null,null,null,null,"内側車輪の舵取り角度",null,null,null,null,null,"β",{"$f":"IF(Sheet1!M18=0,\"\",Sheet1!M18)","v":""},null,null,"°"]
[]
[]
[]
[]
["最小回転半径 R の算出"]
[]
[]
[]
[null,"R="]
[]
[]
[null,null,"≒",{"$f":"IFERROR(ROUNDDOWN(((Q7/SIN(RADIANS(Q11)))+SQRT(Q7^2+((Q7/TAN(RADIANS(Q13)))+Q9)^2))/2,1),\"\")","v":""},null,"m",{"$f":"IF(D25=\"\",\"\",IF(D25<12,\"＜\",\"≧\"))","v":""},{"$f":"IF(D25=\"\",\"\",12)","v":""}]
[]
[null,null,{"$f":"IF(D25=\"\",\"\",IF(G25=\"＜\",\"よって当該車輛の最小回転半径は基準を満たす\",\"当該車輛の最小回転半径は基準を満たしていない\"))","v":""}]

{"sheet":"操舵軸が全輪","index":2,"n_rows":37,"n_cols":20,"rows_kept":37,"cut":false,"hidden":false,"merged":[[36,2,36,3],[21,0,23,1],[22,2,22,3],[18,10,18,15],[16,16,16,18],[18,16,18,20],[26,0,28,1],[27,12,27,17],[31,12,31,17],[34,2,34,4],[12,19,12,20],[14,19,14,20],[16,19,16,20],[12,10,12,14],[14,10,14,14],[16,10,16,14],[12,16,12,18],[14,16,14,18],[10,10,10,14],[0,0,0,23],[2,10,2,14],[4,10,4,14],[6,10,6,14],[8,10,8,14],[2,16,2,18],[4,16,4,18],[6,16,6,18],[8,16,8,18],[10,16,10,18],[2,19,2,20],[4,19,4,20],[6,19,6,20],[8,19,8,20],[10,19,10,20]]}
["全輪が舵取り車輪の自動車の最小回転半径計算書"]
[]
[null,null,null,null,null,null,null,null,null,null,"軸距",null,null,null,null,"L",{"$f":"Sheet1!M26","v":""},null,null,"m"]
[]
[null,null,null,null,null,null,null,null,null,null,"計算上の軸距",null,null,null,null,"FL",{"$f":"Sheet1!M27","v":""},null,null,"m"]
[]
[null,null,null,null,null,null,null,null,null,null,"前軸操舵輪の輪距",null,null,null,null,"Tf",{"$f":"Sheet1!M28","v":""},null,null,"m"]
[]
[null,null,null,null,null,null,null,null,null,null,"後軸操舵輪の輪距",null,null,null,null,"Tr",{"$f":"Sheet1!M29","v":""},null,null,"m"]
[]
[null,null,null,null,null,null,null,null,null,null,"前軸外輪の舵取り角度",null,null,null,null,"α1",{"$f":"Sheet1!M30","v":0},null,null,"°"]
[]
[null,null,null,null,null,null,null,null,null,null,"前軸内輪の舵取り角度",null,null,null,null,"β1",{"$f":"Sheet1!M31","v":0},null,null,"°"]
[]
[null,null,null,null,null,null,null,null,null,null,"後軸前輪の舵取り角度",null,null,null,null,"α2",{"$f":"Sheet1!M32","v":0},null,null,"°"]
[]
[null,null,null,null,null,null,null,null,null,null,"後軸後輪の舵取り角度",null,null,null,null,"β2",{"$f":"Sheet1!M33","v":0},null,null,"°"]
[]
[null,null,null,null,null,null,null,null,null,null,"後輪の操舵方向",null,null,null,null,null,{"$f":"Sheet1!L35","v":"同相"}]
[]
[]
["R="]
[]
[]
[]
["ただし"]
["FL="]
[null,null,null,null,null,null,null,null,null,null,null,null,"・・・・逆相の場合"]
[]
[]
[]
[null,null,null,null,null,null,null,null,null,null,null,null,"・・・・同相の場合"]
[]
[]
[null,"≒",{"$f":"Sheet1!L38","v":""},null,null,"m"]
[]
[null,"R=",{"$f":"IFERROR(ROUND((C35/SIN(RADIANS(Q11))+SQRT(C35^2+((C35/TAN(RADIANS(Q13)))+Q7)^2))/2,1),\"\")","v":""},null,"m",{"$f":"IF(C37=\"\",\"\",IF(C37<12,\"＜\",IF(C37>=12,\"≧\",\"\")))","v":""},{"$f":"IF(C37=\"\",\"\",12)","v":""},{"$f":"IF(C37=\"\",\"\",\"m\")","v":""}]

{"sheet":"前2軸が操舵輪の車両","index":3,"n_rows":52,"n_cols":18,"rows_kept":52,"cut":false,"hidden":false,"merged":[[27,1,28,1],[44,2,44,3],[46,0,46,7],[48,1,49,1],[51,2,51,3],[30,2,30,3],[32,0,32,7],[34,1,35,1],[37,2,37,3],[39,0,39,7],[41,1,42,1],[12,15,12,16],[14,15,14,16],[10,9,10,13],[16,15,16,16],[25,0,25,7],[18,0,18,7],[20,0,21,1],[23,2,23,3],[12,9,12,13],[14,9,14,13],[16,9,16,13],[10,15,10,16],[0,0,0,18],[2,9,2,13],[4,9,4,13],[6,9,6,13],[8,9,8,13],[2,15,2,16],[4,15,4,16],[6,15,6,16],[8,15,8,16]]}
["前2軸が操舵輪の車両の最小回転半径計算書"]
[]
[null,null,null,null,null,null,null,null,null,"前々軸と後軸の軸距",null,null,null,null,"L1",{"$f":"Sheet1!M45","v":""},null,"m"]
[]
[null,null,null,null,null,null,null,null,null,"前後軸と後軸の軸距",null,null,null,null,"L2",{"$f":"Sheet1!M46","v":""},null,"m"]
[]
[null,null,null,null,null,null,null,null,null,"前々軸の舵取り車輪の輪距",null,null,null,null,"Tf1",{"$f":"Sheet1!M47","v":""},null,"m"]
[]
[null,null,null,null,null,null,null,null,null,"前後軸の舵取り車輪の輪距",null,null,null,null,"Tf2",{"$f":"Sheet1!M48","v":""},null,"m"]
[]
[null,null,null,null,null,null,null,null,null,"前々軸外輪の舵取り角度",null,null,null,null,"α1",{"$f":"Sheet1!M49","v":0},null,"°"]
[]
[null,null,null,null,null,null,null,null,null,"前々軸内輪の舵取り角度",null,null,null,null,"β1",{"$f":"Sheet1!M50","v":0},null,"°"]
[]
[null,null,null,null,null,null,null,null,null,"前後軸外輪の舵取り角度",null,null,null,null,"α2",{"$f":"Sheet1!M51","v":0},null,"°"]
[]
[null,null,null,null,null,null,null,null,null,"前後軸内輪の舵取り角度",null,null,null,null,"β2",{"$f":"Sheet1!M52","v":0},null,"°"]
[]
["前々軸外側車輪の最小回転半径 R1 の算出"]
[]
["R1="]
[]
[]
[null,"≒",{"$f":"IFERROR(ROUNDDOWN(P3/SIN(RADIANS(P11)),3),\"\")","v":""},null,"m"]
[]
["前々軸内側車輪の最小回転半径 R2 の算出"]
[]
[null,"R2="]
[]
[]
[null,"≒",{"$f":"IFERROR(ROUNDDOWN(SQRT(P3^2+((P3/TAN(RADIANS(P13)))+P7)^2),3),\"\")","v":""},null,"m"]
[]
["前後軸外側車輪の最小回転半径 R3 の算出"]
[]
[null,"R3="]
[]
[]
[null,"≒",{"$f":"IFERROR(ROUNDDOWN(SQRT(P3^2+((P5/TAN(RADIANS(P15)))+((P7-P9)/2))^2),3),\"\")","v":""},null,"m"]
[]
["前後軸内側車輪の最小回転半径 R4 の算出"]
[]
[null,"R4="]
[]
[]
[null,"≒",{"$f":"IFERROR(ROUNDDOWN(SQRT(P3^2+((P5/TAN(RADIANS(P17)))+((P7+P9)/2))^2),3),\"\")","v":""},null,"m"]
[]
["最小回転半径 R の算出"]
[]
[null,"R="]
[]
[]
[null,"≒",{"$f":"IFERROR(ROUNDDOWN((C24+C31+C38+C45)/4,1),\"\")","v":""},null,"m"]

{"sheet":"車体が屈折する車両","index":4,"n_rows":35,"n_cols":23,"rows_kept":35,"cut":false,"hidden":false,"merged":[[32,0,32,9],[34,1,34,7],[34,9,34,10],[18,0,18,7],[20,1,21,1],[23,2,23,3],[27,1,28,1],[30,2,30,3],[25,0,25,7],[14,19,15,21],[2,22,3,22],[5,22,6,22],[8,22,9,22],[11,22,12,22],[14,22,15,22],[0,0,0,23],[2,10,3,17],[5,10,6,17],[8,10,9,17],[11,10,12,17],[2,19,3,21],[5,19,6,21],[8,19,9,21],[11,19,12,21],[14,10,15,17],[2,18,3,18],[5,18,6,18],[8,18,9,18],[11,18,12,18],[14,18,15,18]]}
["車体が屈折する車両の最小回転半径計算書"]
[]
[null,null,null,null,null,null,null,null,null,null,"直進姿勢にある自動車を平坦な面に置いた時の車両中心線上の前軸から屈折部までの中心距離",null,null,null,null,null,null,null,"L1",{"$f":"Sheet1!M61","v":""},null,null,"m"]
[]
[]
[null,null,null,null,null,null,null,null,null,null,"直進姿勢にある自動車を平坦な面に置いた時の車両中心線上の屈折部から後軸までの中心距離",null,null,null,null,null,null,null,"L2",{"$f":"Sheet1!M62","v":""},null,null,"m"]
[]
[]
[null,null,null,null,null,null,null,null,null,null,"前軸外側車輪の輪距",null,null,null,null,null,null,null,"Tf",{"$f":"Sheet1!M63","v":""},null,null,"m"]
[]
[]
[null,null,null,null,null,null,null,null,null,null,"後軸外側車輪の輪距",null,null,null,null,null,null,null,"Tr",{"$f":"Sheet1!M64","v":""},null,null,"m"]
[]
[]
[null,null,null,null,null,null,null,null,null,null,"舵取り装置を右または左に最大に操作した場合の前軸と後軸の延長戦が交わってなす角度",null,null,null,null,null,null,null,"α",{"$f":"Sheet1!M65","v":""},null,null,"°"]
[]
[]
[]
["前輪の最小回転半径 R1 の算出"]
[]
[null,"R1="]
[]
[]
[null,"≒",{"$f":"IFERROR(ROUNDDOWN(((T6+T3*COS(RADIANS(T15)))/SIN(RADIANS(T15)))+(T9/2),1),\"\")","v":""},null,"m"]
[]
["前輪の最小回転半径 R2 の算出"]
[]
[null,"R2="]
[]
[]
[null,"≒",{"$f":"IFERROR(ROUNDDOWN(((T3+T6*COS(RADIANS(T15)))/SIN(RADIANS(T15)))+(T9/2),1),\"\")","v":""},null,"m"]
[]
["R1、R2のどちらか大きいほう"]
[]
[null,{"$f":"IFERROR(IF(C24-C31<0,\"後輪の最小回転半径\",IF(C24-C31>0,\"前輪の最小回転半径\",\"前後輪とも最小回転半径が同じ\")),\"\")","v":""},null,null,null,null,null,null,null,{"$f":"IFERROR(IF(C24-C31<0,C31,IF(C24-C31>0,C24,IF(C24-C31=0,C24,\"\"))),\"\")","v":""},null,"m"]

{"sheet":"操舵輪が鉄輪の車両","index":5,"n_rows":22,"n_cols":21,"rows_kept":22,"cut":false,"hidden":false,"merged":[[21,2,21,3],[8,10,9,15],[8,16,9,16],[8,17,9,19],[8,20,9,20],[16,0,16,5],[18,0,19,1],[6,10,7,15],[6,16,7,16],[6,17,7,19],[6,20,7,20],[0,0,0,23],[4,10,5,15],[4,16,5,16],[4,17,5,19],[4,20,5,20]]}
["操舵輪が鉄輪の車両の最小回転半径の算出"]
[]
[]
[]
[null,null,null,null,null,null,null,null,null,null,"軸距",null,null,null,null,null,"L",{"$f":"Sheet1!M74","v":""},null,null,"m"]
[]
[null,null,null,null,null,null,null,null,null,null,"舵取り車輪の幅",null,null,null,null,null,"B",{"$f":"Sheet1!M75","v":""},null,null,"m"]
[]
[null,null,null,null,null,null,null,null,null,null,"舵取り装置を右又は左に最大に操作した時の舵取り車輪の舵取り角度",null,null,null,null,null,"α",{"$f":"Sheet1!M76","v":""},null,null,"°"]
[]
[]
[]
[]
[]
[]
[]
["最小回転半径 R の算出"]
[]
["R="]
[]
[]
[null,"≒",{"$f":"IFERROR(ROUNDDOWN((R5/(SIN(RADIANS(R9)))+(R7/2)),1),\"\")","v":""},null,"m"]

{"sheet":"牽引車1","index":6,"n_rows":39,"n_cols":24,"rows_kept":39,"cut":false,"hidden":false,"merged":[[38,3,38,5],[28,1,28,12],[30,1,30,2],[31,3,31,5],[31,12,31,14],[34,1,34,6],[35,2,36,2],[13,23,14,23],[22,1,22,12],[24,1,24,2],[24,3,24,8],[25,3,25,5],[25,12,25,14],[13,12,14,18],[13,19,14,19],[13,20,14,22],[11,12,11,18],[0,0,0,23],[3,12,3,18],[5,12,5,18],[7,12,7,18],[9,12,9,18],[3,20,3,22],[5,20,5,22],[7,20,7,22],[9,20,9,22],[11,20,11,22]]}
["連結中心がけん引車の軸距内にあるけん引車の最小回転半径の計算書"]
[]
[]
[null,null,null,null,null,null,null,null,null,null,null,null,"トラクタ・ホイールベース",null,null,null,null,null,null,"L1",{"$f":"Sheet1!M85","v":""},null,null,"m"]
[]
[null,null,null,null,null,null,null,null,null,null,null,null,"トレーラ・ホイールベース",null,null,null,null,null,null,"L2",{"$f":"Sheet1!M86","v":""},null,null,"m"]
[]
[null,null,null,null,null,null,null,null,null,null,null,null,"トラクタ前輪トレッドの1/2の値",null,null,null,null,null,null,"ℓ1",{"$f":"Sheet1!M87","v":""},null,null,"m"]
[]
[null,null,null,null,null,null,null,null,null,null,null,null,"トレーラ・トレッドの1/2の値",null,null,null,null,null,null,"ℓ2",{"$f":"Sheet1!M88","v":""},null,null,"m"]
[]
[null,null,null,null,null,null,null,null,null,null,null,null,"トラクタ・カプラ・オフセット",null,null,null,null,null,null,"S",{"$f":"Sheet1!M89","v":""},null,null,"m"]
[]
[null,null,null,null,null,null,null,null,null,null,null,null,"トレーラ・タンデム中心線から　旋回中心までの前後距離",null,null,null,null,null,null,"DL",{"$f":"Sheet1!M90","v":""},null,null,"m"]
[]
[]
[]
[]
[]
[]
[]
[]
[null,"トレーラ・キングピン中心から旋回中心までの前後距離　Li"]
[]
[null,"Li =",null,"L2+DL"]
[null,null,"=",{"$f":"IFERROR(ROUNDDOWN(IF(U6+U14=0,\"\",U6+U14),3),\"\")","v":""},null,null,"m",null,null,null,null,"Li ",{"$f":"D26","v":""},null,null,"m"]
[]
[]
[null,"計算過程上必要な値 LC"]
[]
[null,"LC="]
[null,null,"≒",{"$f":"IFERROR(IF(SQRT(M26^2+U10^2-U12^2)=0,\"\",ROUNDDOWN(SQRT(M26^2+U10^2-U12^2),3)),\"\")","v":""},null,null,"m",null,null,null,null,"LC",{"$f":"D32","v":""},null,null,"m"]
[]
[]
[null,"最小回転半径 R"]
[null,null,"R="]
[]
[]
[null,null,"≒",{"$f":"IFERROR(ROUNDDOWN(SQRT(U4^2+(M32+U8)^2),1),\"\")","v":""},null,null,"m"]

{"sheet":"牽引車2","index":7,"n_rows":39,"n_cols":24,"rows_kept":39,"cut":false,"hidden":false,"merged":[[38,3,38,5],[28,1,28,12],[30,1,30,2],[31,3,31,5],[31,12,31,14],[34,1,34,6],[35,2,36,2],[13,23,14,23],[22,1,22,12],[24,1,24,2],[24,3,24,8],[25,3,25,5],[25,12,25,14],[9,12,9,18],[9,20,9,22],[11,12,11,18],[11,20,11,22],[13,12,14,18],[13,19,14,19],[13,20,14,22],[7,12,7,18],[7,20,7,22],[0,0,0,23],[3,12,3,18],[3,20,3,22],[5,12,5,18],[5,20,5,22]]}
["連結中心がけん引車の軸距外にあるけん引車の最小回転半径の計算書"]
[]
[]
[null,null,null,null,null,null,null,null,null,null,null,null,"トラクタ・ホイールベース",null,null,null,null,null,null,"L1",{"$f":"Sheet1!M99","v":""},null,null,"m"]
[]
[null,null,null,null,null,null,null,null,null,null,null,null,"トレーラ・ホイールベース",null,null,null,null,null,null,"L2",{"$f":"Sheet1!M100","v":""},null,null,"m"]
[]
[null,null,null,null,null,null,null,null,null,null,null,null,"トラクタ前輪トレッドの1/2の値",null,null,null,null,null,null,"ℓ1",{"$f":"Sheet1!M101","v":""},null,null,"m"]
[]
[null,null,null,null,null,null,null,null,null,null,null,null,"トレーラ・トレッドの1/2の値",null,null,null,null,null,null,"ℓ2",{"$f":"Sheet1!M102","v":""},null,null,"m"]
[]
[null,null,null,null,null,null,null,null,null,null,null,null,"トラクタ・カプラ・オフセット",null,null,null,null,null,null,"S",{"$f":"Sheet1!M103","v":""},null,null,"m"]
[]
[null,null,null,null,null,null,null,null,null,null,null,null,"トレーラ・タンデム中心線から　旋回中心までの前後距離",null,null,null,null,null,null,"DL",{"$f":"Sheet1!M104","v":""},null,null,"m"]
[]
[]
[]
[]
[]
[]
[]
[]
[null,"トレーラ・キングピン中心から旋回中心までの前後距離　Li"]
[]
[null,"Li =",null,"L2+DL"]
[null,null,"=",{"$f":"IFERROR(ROUNDDOWN(IF(U6+U14=0,\"\",U6+U14),3),\"\")","v":""},null,null,"m",null,null,null,null,"Li ",{"$f":"D26","v":""},null,null,"m"]
[]
[]
[null,"計算過程上必要な値 LC"]
[]
[null,"LC="]
[null,null,"≒",{"$f":"IFERROR(IF(SQRT(M26^2+U10^2)=0,\"\",ROUNDDOWN(SQRT(M26^2+U10^2),3)),\"\")","v":""},null,null,"m",null,null,null,null,"LC",{"$f":"D32","v":""},null,null,"m"]
[]
[]
[null,"最小回転半径 R"]
[null,null,"R="]
[]
[]
[null,null,"≒",{"$f":"IFERROR(ROUNDDOWN(SQRT((U4+U12)^2+(M32+U8)^2),1),\"\")","v":""},null,null,"m"]

{"sheet":"サイドカー等","index":8,"n_rows":59,"n_cols":23,"rows_kept":59,"cut":false,"hidden":false,"merged":[[56,0,57,1],[58,2,58,3],[55,0,55,23],[13,11,13,12],[14,12,18,22],[41,14,41,17],[42,14,42,22],[54,17,54,18],[39,5,39,9],[45,5,45,9],[40,2,40,4],[41,2,41,3],[47,2,47,3],[50,0,50,23],[51,0,52,1],[53,2,53,3],[41,7,41,9],[47,7,47,9],[35,2,35,3],[35,5,35,6],[26,0,26,14],[32,0,32,17],[44,0,44,13],[46,0,46,1],[46,2,46,10],[38,0,38,17],[40,0,40,1],[29,2,29,3],[28,0,28,1],[29,5,29,6],[34,0,34,1],[34,2,34,3],[23,2,23,3],[0,0,0,23],[4,11,5,17],[7,11,8,17],[10,11,11,17],[4,18,5,18],[7,18,8,18],[10,18,11,18],[4,19,5,21],[7,19,8,21],[10,19,11,21],[4,22,5,22],[7,22,8,22],[10,22,11,22],[20,0,20,23],[22,0,22,1]]}
["側車付二輪車等前輪と後軸の一輪が同一直線状にある3輪の車両の最小回転半径計算書"]
[]
[]
[]
[null,null,null,null,null,null,null,null,null,null,null,"自動二輪車側の中心線と平行な前輪中心と側車輪中心間の距離",null,null,null,null,null,null,"Ls",{"$f":"Sheet1!M113","v":0},null,null,"m"]
[]
[]
[null,null,null,null,null,null,null,null,null,null,null,"自動二輪車側の中心線と直交する側車輪までの輪距",null,null,null,null,null,null,"Tr",{"$f":"Sheet1!M114","v":0},null,null,"m"]
[]
[]
[null,null,null,null,null,null,null,null,null,null,null,"前輪のハンドルの切れ角",null,null,null,null,null,null,"θ",{"$f":"Sheet1!M115","v":0},null,null,"°"]
[]
[]
[null,null,null,null,null,null,null,null,null,null,null,"仮定"]
[null,null,null,null,null,null,null,null,null,null,null,null,"左記図中∠B、∠B'のそれぞれの角度が同じだった場合、∠B、∠B'、∠αの作る三角形は二等辺三角形となるため、どちらに回転した場合も最小回転半径は前後同じとなる。　　　　　また、∠B＞∠B'の場合でかつ、自動二輪車側に回転した場合は、最小回転半径は前輪の軌跡となる。"]
[]
[]
[]
[]
[]
["側車輪中心と前輪中心の直線距離 Ls'"]
[]
["Ls'="]
[null,"≒",{"$f":"IF(T5=0,\"\",IFERROR(ROUNDDOWN(SQRT(T8^2+T5^2),3),\"\"))","v":""},null,"m"]
[]
[]
["側車輪から前輪を結ぶ線と車両中心線とが交差してなす角度　A"]
[]
["sinA=",null,"Tr/Ls'"]
[null,"≒",{"$f":"IFERROR(T8/C24,\"\")","v":""},null,"≒",{"$f":"IFERROR(ROUND(DEGREES(ASIN(C30)),1),\"\")","v":""},null,"°"]
[]
[]
["側車輪と前輪、側車輪と回転中心のそれぞれが結ぶ線の交差してなす角度 B"]
[]
["sinB=",null,"Ls/Ls'"]
[null,"≒",{"$f":"IFERROR(T5/C24,\"\")","v":""},null,"≒",{"$f":"IFERROR(ROUND(DEGREES(ASIN(C36)),1),\"\")","v":""},null,"°"]
[]
[]
["前輪と側車輪、前輪と回転中心のそれぞれが結ぶ線の交差してなす角度 B'"]
[null,null,null,null,null,"( )内はラジアンに換算"]
["sinB'=",null,"90-θ+A"]
[null,"≒",{"$f":"IF(C24=\"\",\"\",90-T11+F30)","v":""},null,"°",null,"(",{"$f":"IFERROR(SIN(RADIANS(C42)),\"\")","v":""},null,null,")",null,null,null,{"$f":"IF(C42=\"\",\"\",\"この時点で∠B\")","v":""},null,null,null,{"$f":"IF(C42=\"\",\"\",IF(F36>=C42,\"≧\",\"＜\"))","v":""},{"$f":"IF(C42=\"\",\"\",\"∠B'であるため、\")","v":""}]
[null,null,null,null,null,null,null,null,null,null,null,null,null,null,{"$f":"IF(C42=\"\",\"\",IF(S42=\"＜\",\"   側車輪、前輪とも算出する\",\"   前輪側の算出のみとする\"))","v":""}]
[]
["回転中心から前輪、側車輪を結ぶ線が交差してなす角度 α"]
[null,null,null,null,null,"( )内はラジアンに換算"]
["sinα=",null,"180-(B+B')"]
[null,"≒",{"$f":"IF(C24=\"\",\"\",180-(F36+C42))","v":""},null,"°",null,"(",{"$f":"IFERROR(SIN(RADIANS(C48)),\"\")","v":""},null,null,")"]
[]
[]
["側車側に回転した時の最小回転半径 Ris"]
["Ris="]
[]
[null,"≒",{"$f":"IFERROR(IF(S42=\"≧\",\"\",ROUNDDOWN(C24*C36/C48,1)),\"\")","v":""},null,"m"]
[null,null,null,null,null,null,null,null,null,null,null,null,null,null,null,null,null,{"$f":"IFERROR(IF(C54=\"\",C59,IF(C54>C59,C54,IF(C59=\"\",\"\",C59))),\"\")","v":""}]
["自動二輪車側に回転した時の最小回転半径 Ros"]
["Ros="]
[]
[null,"≒",{"$f":"IFERROR(ROUNDDOWN(C24*H42/H48,1),\"\")","v":""},null,"m"]

{"sheet":"3輪車","index":9,"n_rows":59,"n_cols":23,"rows_kept":59,"cut":false,"hidden":false,"merged":[[39,5,39,9],[45,5,45,9],[54,17,54,18],[55,0,55,23],[56,0,57,1],[40,0,40,1],[40,2,40,4],[41,2,41,3],[41,14,41,17],[42,14,42,22],[44,0,44,13],[41,7,41,9],[58,2,58,3],[47,7,47,9],[46,0,46,1],[46,2,46,10],[47,2,47,3],[50,0,50,23],[51,0,52,1],[53,2,53,3],[38,0,38,17],[35,9,35,11],[20,0,20,23],[22,0,22,1],[23,2,23,3],[26,0,26,14],[28,0,28,1],[29,2,29,3],[29,5,29,6],[32,0,32,17],[34,0,34,1],[34,2,34,3],[35,2,35,3],[35,5,35,6],[14,12,18,22],[0,0,0,23],[4,11,5,17],[4,18,5,18],[4,19,5,21],[4,22,5,22],[7,11,8,17],[7,18,8,18],[7,19,8,21],[7,22,8,22],[10,11,11,17],[10,18,11,18],[10,19,11,21],[10,22,11,22],[13,11,13,12]]}
["トライク等前輪が後軸輪距の中心線上にある車両の最小回転半径計算書"]
[]
[]
[]
[null,null,null,null,null,null,null,null,null,null,null,"自動二輪車側の中心線と平行な前輪中心と側車輪中心間の距離",null,null,null,null,null,null,"L",{"$f":"Sheet1!M127","v":0},null,null,"m"]
[]
[]
[null,null,null,null,null,null,null,null,null,null,null,"自動二輪車側の中心線と直交する側車輪までの輪距",null,null,null,null,null,null,"Tr",{"$f":"Sheet1!M128","v":0},null,null,"m"]
[]
[]
[null,null,null,null,null,null,null,null,null,null,null,"前輪のハンドルの切れ角",null,null,null,null,null,null,"θ",{"$f":"Sheet1!M129","v":0},null,null,"°"]
[]
[]
[null,null,null,null,null,null,null,null,null,null,null,"仮定"]
[null,null,null,null,null,null,null,null,null,null,null,null,"左記図中∠B、∠B'のそれぞれの角度が同じだった場合、∠B、∠B'、∠αの作る三角形は二等辺三角形となるため、どちらに回転した場合も最小回転半径は前後同じとなる。　　　　　また、∠B＞∠B'の場合でかつ、自動二輪車側に回転した場合は、最小回転半径は前輪の軌跡となる。"]
[]
[]
[]
[]
[]
["側車輪中心と前輪中心の直線距離 Ls'"]
[]
["L'="]
[null,"≒",{"$f":"IF(T5=0,\"\",IFERROR(ROUNDDOWN(SQRT((T8/2)^2+T5^2),3),\"\"))","v":""},null,"m"]
[]
[]
["側車輪から前輪を結ぶ線と車両中心線とが交差してなす角度　A"]
[]
["sinA=",null,"Tr/2L'"]
[null,"≒",{"$f":"IFERROR(T8/(2*C24),\"\")","v":""},null,"≒",{"$f":"IFERROR(ROUND(DEGREES(ASIN(C30)),1),\"\")","v":""},null,"°"]
[]
[]
["側車輪と前輪、側車輪と回転中心のそれぞれが結ぶ線の交差してなす角度 B"]
[]
["sinB=",null,"L/L'"]
[null,"≒",{"$f":"IFERROR(T5/C24,\"\")","v":""},null,"≒",{"$f":"IFERROR(ROUND(DEGREES(ASIN(C36)),1),\"\")","v":""},null,"°"]
[]
[]
["前輪と側車輪、前輪と回転中心のそれぞれが結ぶ線の交差してなす角度 B'"]
[null,null,null,null,null,"( )内はラジアンに換算"]
["sinB'=",null,"90-θ+A"]
[null,"≒",{"$f":"IF(C24=\"\",\"\",90-T11+F30)","v":""},null,"°",null,"(",{"$f":"IFERROR(SIN(RADIANS(C42)),\"\")","v":""},null,null,")",null,null,null,{"$f":"IF(C42=\"\",\"\",\"この時点で∠B\")","v":""},null,null,null,{"$f":"IF(C42=\"\",\"\",IF(F36>=C42,\"≧\",\"＜\"))","v":""},{"$f":"IF(C42=\"\",\"\",\"∠B'であるため、\")","v":""}]
[null,null,null,null,null,null,null,null,null,null,null,null,null,null,{"$f":"IF(C42=\"\",\"\",IF(S42=\"＜\",\"   最小回転半径となるのは前軸輪\",\"   最小回転半径となるのは後軸輪\"))","v":""}]
[]
["回転中心から前輪、側車輪を結ぶ線が交差してなす角度 α"]
[null,null,null,null,null,"( )内はラジアンに換算"]
["sinα=",null,"180-(B+B')"]
[null,"≒",{"$f":"IF(C24=\"\",\"\",180-(F36+C42))","v":""},null,"°",null,"(",{"$f":"IFERROR(SIN(RADIANS(C48)),\"\")","v":""},null,null,")"]
[]
[]
["後軸外側輪の最小回転半径 Rr"]
["Rr="]
[]
[null,"≒",{"$f":"IFERROR(IF(S42=\"≧\",\"\",ROUNDDOWN(C24*C36/H48,1)),\"\")","v":""},null,"m"]
[null,null,null,null,null,null,null,null,null,null,null,null,null,null,null,null,null,{"$f":"IFERROR(IF(C54=\"\",C59,IF(C54>C59,C54,IF(C59=\"\",\"\",C59))),\"\")","v":""}]
["前輪の最小回転半径 Rf"]
["Rf="]
[]
[null,"≒",{"$f":"IFERROR(ROUNDDOWN(C24*H42/H48,1),\"\")","v":""},null,"m"]

{"sheet":"Sheet1","index":10,"n_rows":134,"n_cols":14,"rows_kept":134,"cut":false,"hidden":true,"merged":[[133,2,133,3],[133,4,133,5],[133,7,133,8],[129,2,129,3],[129,8,129,9],[129,10,129,11],[129,12,129,14],[130,8,130,9],[130,10,130,11],[130,12,130,14],[131,8,131,9],[131,10,131,11],[131,12,131,14],[126,2,126,5],[126,8,126,9],[126,10,126,11],[126,12,126,14],[127,2,127,3],[127,8,127,9],[127,10,127,11],[127,12,127,14],[128,2,128,3],[128,8,128,9],[128,10,128,11],[128,12,128,14],[117,8,117,9],[117,10,117,11],[117,12,117,14],[109,1,109,15],[123,1,123,13],[125,8,125,11],[125,12,125,14],[112,2,112,5],[113,2,113,3],[114,2,114,3],[115,2,115,3],[119,2,119,3],[119,4,119,5],[119,7,119,8],[111,8,111,11],[111,12,111,14],[112,8,112,9],[112,10,112,11],[112,12,112,14],[113,8,113,9],[113,10,113,11],[113,12,113,14],[114,8,114,9],[114,10,114,11],[114,12,114,14],[115,8,115,9],[115,10,115,11],[115,12,115,14],[116,8,116,9],[116,10,116,11],[89,8,89,9],[89,10,89,11],[89,12,89,14],[102,8,102,9],[102,10,102,11],[102,12,102,14],[103,8,103,9],[103,10,103,11],[103,12,103,14],[116,12,116,14],[87,2,87,3],[91,2,91,3],[91,4,91,5],[91,7,91,8],[87,8,87,9],[87,10,87,11],[87,12,87,14],[88,8,88,9],[88,10,88,11],[88,12,88,14],[85,2,85,3],[86,2,86,3],[83,8,83,11],[83,12,83,14],[84,8,84,9],[84,10,84,11],[84,12,84,14],[85,8,85,9],[85,10,85,11],[85,12,85,14],[86,8,86,9],[86,10,86,11],[86,12,86,14],[77,2,77,3],[77,4,77,5],[77,7,77,8],[81,1,81,13],[84,2,84,5],[73,2,73,3],[74,2,74,3],[75,2,75,3],[72,8,72,11],[72,12,72,14],[73,8,73,9],[73,10,73,11],[73,12,73,14],[74,8,74,9],[74,10,74,11],[74,12,74,14],[75,8,75,9],[75,10,75,11],[75,12,75,14],[66,2,66,3],[66,4,66,5],[66,7,66,8],[70,1,70,5],[72,2,72,5],[62,12,62,14],[63,10,63,11],[63,12,63,14],[64,10,64,11],[64,12,64,14],[62,7,62,9],[63,7,63,9],[64,7,64,9],[62,2,62,3],[63,2,63,3],[62,10,62,11],[59,12,59,14],[60,10,60,11],[60,12,60,14],[61,10,61,11],[61,12,61,14],[59,7,59,11],[60,7,60,9],[61,7,61,9],[60,2,60,5],[61,2,61,3],[52,3,52,4],[54,2,54,3],[54,4,54,5],[54,7,54,8],[58,1,58,5],[51,8,51,9],[51,10,51,11],[51,12,51,14],[49,3,49,4],[50,3,50,4],[51,3,51,4],[49,8,49,9],[49,10,49,11],[49,12,49,14],[50,8,50,9],[50,10,50,11],[50,12,50,14],[48,8,48,9],[48,10,48,11],[48,12,48,14],[45,8,45,9],[45,10,45,11],[45,12,45,14],[46,8,46,9],[46,10,46,11],[46,12,46,14],[47,2,47,3],[38,5,38,7],[34,8,34,10],[34,11,34,12],[34,13,34,14],[36,2,36,4],[37,2,37,4],[36,5,36,7],[37,5,37,7],[37,9,37,10],[37,11,37,13],[35,5,35,7],[43,8,43,11],[43,12,43,14],[44,8,44,9],[44,10,44,11],[44,12,44,14],[42,1,42,5],[44,2,44,5],[45,2,45,3],[46,2,46,3],[47,8,47,9],[47,10,47,11],[47,12,47,14],[26,8,26,9],[26,10,26,11],[26,12,26,14],[30,2,30,4],[31,2,31,3],[31,5,31,6],[31,8,31,9],[31,10,31,11],[31,12,31,14],[27,2,27,3],[28,2,28,3],[26,2,26,3],[28,12,28,14],[27,8,27,9],[27,10,27,11],[29,8,29,9],[29,10,29,11],[29,12,29,14],[30,8,30,9],[30,10,30,11],[30,12,30,14],[1,1,1,3],[2,1,2,2],[3,1,3,2],[7,3,7,10],[8,3,8,10],[7,1,7,2],[8,1,8,2],[2,3,2,10],[3,3,3,10],[4,3,4,10],[5,3,5,10],[6,3,6,10],[1,5,1,12],[14,12,14,14],[15,12,15,14],[16,12,16,14],[17,12,17,14],[12,1,12,5],[13,8,13,11],[13,12,13,14],[4,1,4,2],[5,1,5,2],[6,1,6,2],[9,3,9,10],[10,3,10,10],[10,1,10,2],[9,1,9,2],[14,10,14,11],[15,10,15,11],[15,2,15,3],[16,2,16,3],[17,2,17,3],[14,2,14,5],[14,8,14,9],[15,8,15,9],[16,8,16,9],[17,8,17,9],[16,10,16,11],[17,10,17,11],[97,8,97,11],[97,12,97,14],[98,2,98,5],[98,8,98,9],[98,10,98,11],[98,12,98,14],[95,1,95,14],[24,8,24,11],[24,12,24,14],[25,8,25,9],[25,10,25,11],[25,12,25,14],[19,2,19,3],[19,4,19,5],[23,1,23,5],[25,2,25,5],[32,8,32,9],[32,10,32,11],[32,12,32,14],[27,12,27,14],[28,8,28,9],[28,10,28,11],[105,2,105,3],[105,4,105,5],[105,7,105,8],[99,2,99,3],[99,8,99,9],[99,10,99,11],[99,12,99,14],[100,2,100,3],[100,8,100,9],[100,10,100,11],[100,12,100,14],[101,2,101,3],[101,8,101,9],[101,10,101,11],[101,12,101,14]]}
[]
[null,"車種の選択",null,null,{"$f":"IF(B3=TRUE,1,IF(B4=TRUE,2,IF(B5=TRUE,3,IF(B6=TRUE,4,IF(B7=TRUE,5,IF(B8=TRUE,6,IF(B9=TRUE,7,IF(B10=TRUE,8,IF(B11=TRUE,9,\"\")))))))))","v":""},{"$f":"IF(E2=1,D3,IF(E2=2,D4,IF(E2=3,D5,IF(E2=4,D6,IF(E2=5,D7,IF(E2=6,D8,IF(E2=7,D9,IF(E2=8,D10,IF(E2=9,D11,\"\")))))))))","v":""}]
[null,false,null,"舵取り車輪が1軸の車両",null,null,null,null,null,null,null,1]
[null,false,null,"4WS等全輪が舵取り車輪の車両"]
[null,false,null,"前軸2軸が舵取り車輪の車両"]
[null,false,null,"車体が屈折して走行する車両"]
[null,false,null,"舵取り車輪が鉄輪の車両"]
[null,false,null,"カプラ中心がけん引車の軸距内にある車両"]
[null,false,null,"カプラ中心がけん引車の軸距より後方にある車両"]
[null,false,null,"側車付二輪車等前輪と後軸の一輪が同一直線状にある車両"]
[null,false,null,"トライク等前輪が後軸輪距の中心線上にある車両"]
[]
[null,"舵取り車輪が一軸の車両"]
[null,null,null,null,null,null,null,null,"入力された数値",null,null,null,"補正後の数値"]
[null,null,"入力される数値の単位",null,null,null,{"$f":"IF(C16=TRUE,\"mm\",IF(C17=TRUE,\"cm\",IF(C18=TRUE,\"m\",\"\")))","v":""},null,"軸距",null,null,null,{"$f":"IF(G15=\"mm\",K15/1000,IF(G15=\"cm\",K15/100,IF(G15=\"m\",K15,\"\")))","v":""}]
[null,null,false,null,"mm",null,null,null,"輪距",null,null,null,{"$f":"IF(G15=\"mm\",K16/1000,IF(G15=\"cm\",K16/100,IF(G15=\"m\",K16,\"\")))","v":""}]
[null,null,false,null,"cm",null,null,null,"外側角度",null,null,null,{"$f":"IF(K17=0,\"\",K17)","v":""}]
[null,null,false,null,"m",null,null,null,"内側角度",null,null,null,{"$f":"IF(K18=\"\",\"\",K18)","v":""}]
[]
[null,null,"結果",null,{"$f":"ROUNDDOWN(IF(操舵軸が1軸!D25=\"\",\"\",操舵軸が1軸!D25),2)","v":{"$error":"#VALUE!"}},null,"m",{"$f":"IF(E20=\"\",\"\",IF(E20<12,\"＜\",IF(E20>=12,\"≧\")))","v":{"$error":"#VALUE!"}},12]
[]
[]
[]
[null,"舵取り車輪が全輪の場合"]
[null,null,null,null,null,null,null,null,"入力された数値",null,null,null,"補正後の数値"]
[null,null,"入力される数値の単位",null,null,null,{"$f":"IF(C27=TRUE,\"mm\",IF(C28=TRUE,\"cm\",IF(C29=TRUE,\"m\",\"\")))","v":""},null,"軸距",null,null,null,{"$f":"IF(G26=\"mm\",K26/1000,IF(G26=\"cm\",K26/100,IF(G26=\"m\",K26,\"\")))","v":""}]
[null,null,false,null,"mm",null,null,null,"計算上の軸距",null,{"$f":"F36","v":""},null,{"$f":"L38","v":""}]
[null,null,false,null,"cm",null,null,null,"前操舵輪距",null,null,null,{"$f":"IF(G26=\"mm\",K28/1000,IF(G26=\"cm\",K28/100,IF(G26=\"m\",K28,\"\")))","v":""}]
[null,null,false,null,"m",null,null,null,"後操舵輪距",null,null,null,{"$f":"IF(G26=\"mm\",K29/1000,IF(G26=\"cm\",K29/100,IF(G26=\"m\",K29,\"\")))","v":""}]
[null,null,null,null,null,null,null,null,"前軸外側角度",null,null,null,{"$f":"K30","v":0}]
[null,null,"結果",null,null,null,null,null,"前軸内側角度",null,null,null,{"$f":"K31","v":0}]
[null,null,{"$f":"操舵軸が全輪!C37","v":""},null,{"$f":"操舵軸が全輪!F37","v":""},12,null,null,"後軸外側角度",null,null,null,{"$f":"K32","v":0}]
[null,null,null,null,null,null,null,null,"後軸内側角度",null,null,null,{"$f":"K33","v":0}]
[]
[null,null,null,null,null,null,null,null,"後輪操舵の方向",null,null,{"$f":"IF(N35=TRUE,\"逆相\",IF(N35=FALSE,\"同相\",\"\"))","v":"同相"},null,false]
[null,null,null,null,null,{"$f":"IF(G26=\"m\",F39,IF(G26=\"cm\",F39*100,IF(G26=\"mm\",F39*1000,\"\")))","v":""}]
[null,null,"逆相時のFL",null,null,{"$f":"IFERROR(IF(N35=FALSE,\"\",IF(N35=TRUE,ROUNDDOWN((M26/(TAN((RADIANS(M30)+RADIANS(M31))/2)+TAN((RADIANS(M32)+RADIANS(M33))/2)))*(TAN((RADIANS(M30)+(RADIANS(M31)))/2)),3),\"\")),\"\")","v":""}]
[null,null,"同相時のFL",null,null,{"$f":"IFERROR(ROUNDDOWN(IF(N35=FALSE,(M26/(TAN((RADIANS(M30)+RADIANS(M31))/2)-TAN((RADIANS(M32)+RADIANS(M33))/2)))*(TAN((RADIANS(M30)+(RADIANS(M31)))/2)),\"\"),3),\"\")","v":""},null,null,null,"結果FL=",null,{"$f":"IF(N35=FALSE,F38,IF(N35=TRUE,F37,\"\"))","v":""}]
[null,null,null,null,null,{"$f":"SUM(F37:H38)","v":0}]
[]
[]
[]
[null,"前2軸が舵取り車輪の車両"]
[null,null,null,null,null,null,null,null,"入力された数値",null,null,null,"補正後の数値"]
[null,null,"入力される数値の単位",null,null,null,{"$f":"IF(C46=TRUE,\"mm\",IF(C47=TRUE,\"cm\",IF(C48=TRUE,\"m\",\"\")))","v":""},null,"前々軸後軸間",null,null,null,{"$f":"IF(G45=\"mm\",K45/1000,IF(G45=\"cm\",K45/100,IF(G45=\"m\",K45,\"\")))","v":""}]
[null,null,false,null,"mm",null,null,null,"前後軸後軸間",null,null,null,{"$f":"IF(G45=\"mm\",K46/1000,IF(G45=\"cm\",K46/100,IF(G45=\"m\",K46,\"\")))","v":""}]
[null,null,false,null,"cm",null,null,null,"前前操舵輪距",null,null,null,{"$f":"IF(G45=\"mm\",K47/1000,IF(G45=\"cm\",K47/100,IF(G45=\"m\",K47,\"\")))","v":""}]
[null,null,false,null,"m",null,null,null,"前後操舵輪距",null,null,null,{"$f":"IF(G45=\"mm\",K48/1000,IF(G45=\"cm\",K48/100,IF(G45=\"m\",K48,\"\")))","v":""}]
[null,null,null,null,null,null,null,null,"前軸外側角度",null,null,null,{"$f":"K49","v":0}]
[null,null,"R1=",{"$f":"前2軸が操舵輪の車両!C24","v":""},null,null,null,null,"前軸内側角度",null,null,null,{"$f":"K50","v":0}]
[null,null,"R2=",{"$f":"前2軸が操舵輪の車両!C31","v":""},null,null,null,null,"後軸外側角度",null,null,null,{"$f":"K51","v":0}]
[null,null,"R3=",{"$f":"前2軸が操舵輪の車両!C38","v":""},null,null,null,null,"後軸内側角度",null,null,null,{"$f":"K52","v":0}]
[null,null,"R4=",{"$f":"前2軸が操舵輪の車両!C45","v":""}]
[]
[null,null,"結果",null,{"$f":"前2軸が操舵輪の車両!C52","v":""},null,"<",12]
[]
[]
[]
[null,"車体が屈折する車両"]
[null,null,null,null,null,null,null,"入力された数値",null,null,null,null,"補正後の数値"]
[null,null,"入力される数値の単位",null,null,null,{"$f":"IF(C62=TRUE,\"mm\",IF(C63=TRUE,\"cm\",IF(C64=TRUE,\"m\",\"\")))","v":""},"前側軸距",null,null,null,null,{"$f":"IF(G61=\"mm\",K61/1000,IF(G61=\"cm\",K61/100,IF(G61=\"m\",K61,\"\")))","v":""}]
[null,null,false,null,"mm",null,null,"後ろ側軸距",null,null,null,null,{"$f":"IF(G61=\"mm\",K62/1000,IF(G61=\"cm\",K62/100,IF(G61=\"m\",K62,\"\")))","v":""}]
[null,null,false,null,"cm",null,null,"前側輪距",null,null,null,null,{"$f":"IF(G61=\"mm\",K63/1000,IF(G61=\"cm\",K63/100,IF(G61=\"m\",K63,\"\")))","v":""}]
[null,null,false,null,"m",null,null,"後ろ側輪距",null,null,null,null,{"$f":"IF(G61=\"mm\",K64/1000,IF(G61=\"cm\",K64/100,IF(G61=\"m\",K64,\"\")))","v":""}]
[null,null,null,null,null,null,null,"舵取り角度",null,null,null,null,{"$f":"IF(K65=\"\",\"\",K65)","v":""}]
[]
[null,null,"結果",null,{"$f":"車体が屈折する車両!J35","v":""},null,"<",12]
[]
[]
[]
[null,"舵取り車輪が鉄輪の車両"]
[]
[null,null,"入力される数値の単位",null,null,null,{"$f":"IF(C74=TRUE,\"mm\",IF(C75=TRUE,\"cm\",IF(C76=TRUE,\"m\",\"\")))","v":""},null,"入力された数値",null,null,null,"補正後の数値"]
[null,null,false,null,"mm",null,null,null,"軸距",null,null,null,{"$f":"IF(G73=\"mm\",K74/1000,IF(G73=\"cm\",K74/100,IF(G73=\"m\",K74,\"\")))","v":""}]
[null,null,false,null,"cm",null,null,null,"輪距",null,null,null,{"$f":"IF(G73=\"mm\",K75/1000,IF(G73=\"cm\",K75/100,IF(G73=\"m\",K75,\"\")))","v":""}]
[null,null,false,null,"m",null,null,null,"外側角度",null,null,null,{"$f":"IF(K76=\"\",\"\",K76)","v":""}]
[]
[null,null,"結果",null,{"$f":"操舵輪が鉄輪の車両!C22","v":""},null,"<",12]
[]
[]
[]
[null,"連結中心がけん引車の軸距内にあるけん引車の最小回転半径の計算書"]
[]
[null,null,null,null,null,null,null,null,"入力された数値",null,null,null,"補正後の数値"]
[null,null,"入力される数値の単位",null,null,null,{"$f":"IF(C86=TRUE,\"mm\",IF(C87=TRUE,\"cm\",IF(C88=TRUE,\"m\",\"\")))","v":""},null,"トラクタ軸距",null,null,null,{"$f":"IF(G85=\"mm\",K85/1000,IF(G85=\"cm\",K85/100,IF(G85=\"m\",K85,\"\")))","v":""}]
[null,null,false,null,"mm",null,null,null,"トレーラ軸距",null,null,null,{"$f":"IF(G85=\"mm\",K86/1000,IF(G85=\"cm\",K86/100,IF(G85=\"m\",K86,\"\")))","v":""}]
[null,null,false,null,"cm",null,null,null,"トラクタトレッド",null,null,null,{"$f":"IF(G85=\"mm\",K87/1000,IF(G85=\"cm\",K87/100,IF(G85=\"m\",K87,\"\")))","v":""}]
[null,null,false,null,"m",null,null,null,"トレーラトレッド",null,null,null,{"$f":"IF(G85=\"mm\",K88/1000,IF(G85=\"cm\",K88/100,IF(G85=\"m\",K88,\"\")))","v":""}]
[null,null,null,null,null,null,null,null,"カプラオフセット",null,null,null,{"$f":"IF(G85=\"mm\",K89/1000,IF(G85=\"cm\",K89/100,IF(G85=\"m\",K89,\"\")))","v":""}]
[null,null,null,null,null,null,null,null,"TC-旋回中心間",null,null,null,{"$f":"IF(G85=\"mm\",K90/1000,IF(G85=\"cm\",K90/100,IF(G85=\"m\",K90,\"\")))","v":""}]
[]
[null,null,"結果",null,{"$f":"牽引車1!D39","v":""},null,"<",12]
[]
[]
[]
[null,"連結中心がけん引車の軸距の後方にあるけん引車の最小回転半径の計算書"]
[]
[null,null,null,null,null,null,null,null,"入力された数値",null,null,null,"補正後の数値"]
[null,null,"入力される数値の単位",null,null,null,{"$f":"IF(C100=TRUE,\"mm\",IF(C101=TRUE,\"cm\",IF(C102=TRUE,\"m\",\"\")))","v":""},null,"トラクタ軸距",null,null,null,{"$f":"IF(G99=\"mm\",K99/1000,IF(G99=\"cm\",K99/100,IF(G99=\"m\",K99,\"\")))","v":""}]
[null,null,false,null,"mm",null,null,null,"トレーラ軸距",null,null,null,{"$f":"IF(G99=\"mm\",K100/1000,IF(G99=\"cm\",K100/100,IF(G99=\"m\",K100,\"\")))","v":""}]
[null,null,false,null,"cm",null,null,null,"トラクタトレッド",null,null,null,{"$f":"IF(G99=\"mm\",K101/1000,IF(G99=\"cm\",K101/100,IF(G99=\"m\",K101,\"\")))","v":""}]
[null,null,false,null,"m",null,null,null,"トレーラトレッド",null,null,null,{"$f":"IF(G99=\"mm\",K102/1000,IF(G99=\"cm\",K102/100,IF(G99=\"m\",K102,\"\")))","v":""}]
[null,null,null,null,null,null,null,null,"カプラオフセット",null,null,null,{"$f":"IF(G99=\"mm\",K103/1000,IF(G99=\"cm\",K103/100,IF(G99=\"m\",K103,\"\")))","v":""}]
[null,null,null,null,null,null,null,null,"TC-旋回中心間",null,null,null,{"$f":"IF(G99=\"mm\",K104/1000,IF(G99=\"cm\",K104/100,IF(G99=\"m\",K104,\"\")))","v":""}]
[]
[null,null,"結果",null,{"$f":"牽引車2!D39","v":""},null,"<",12]
[]
[]
[]
[null,"側車付二輪車等前輪と後軸の一輪が同一直線状にある車両の最小回転半径計算書"]
[]
[null,null,null,null,null,null,null,null,"入力された数値",null,null,null,"補正後の数値"]
[null,null,"入力される数値の単位",null,null,null,{"$f":"IF(C114=TRUE,\"mm\",IF(C115=TRUE,\"cm\",IF(C116=TRUE,\"m\",\"\")))","v":"mm"},null,"サイドカー軸距",null,null,null,{"$f":"IF(G113=\"mm\",K113/1000,IF(G113=\"cm\",K113/100,IF(G113=\"m\",K113,\"\")))","v":0}]
[null,null,true,null,"mm",null,null,null,"後輪トレッド",null,null,null,{"$f":"IF(G113=\"mm\",K114/1000,IF(G113=\"cm\",K114/100,IF(G113=\"m\",K114,\"\")))","v":0}]
[null,null,false,null,"cm",null,null,null,"操舵角度",null,null,null,{"$f":"IF(G113=\"mm\",K115/1000,IF(G113=\"cm\",K115/100,IF(G113=\"m\",K115,\"\")))","v":0}]
[null,null,false,null,"m"]
[]
[]
[]
[null,null,"結果",null,{"$f":"サイドカー等!R55","v":""},null,"<",12]
[]
[]
[]
[null,"トライク等前輪が後軸輪距の中心線上にある車両の最小回転半径計算書"]
[]
[null,null,null,null,null,null,null,null,"入力された数値",null,null,null,"補正後の数値"]
[null,null,"入力される数値の単位",null,null,null,{"$f":"IF(C128=TRUE,\"mm\",IF(C129=TRUE,\"cm\",IF(C130=TRUE,\"m\",\"\")))","v":"mm"},null,"トライク軸距",null,null,null,{"$f":"IF(G127=\"mm\",K127/1000,IF(G127=\"cm\",K127/100,IF(G127=\"m\",K127,\"\")))","v":0}]
[null,null,true,null,"mm",null,null,null,"後輪トレッド",null,null,null,{"$f":"IF(G127=\"mm\",K128/1000,IF(G127=\"cm\",K128/100,IF(G127=\"m\",K128,\"\")))","v":0}]
[null,null,false,null,"cm",null,null,null,"操舵角度",null,null,null,{"$f":"IF(G127=\"mm\",K129,IF(G127=\"cm\",K129,IF(G127=\"m\",K129,\"\")))","v":0}]
[null,null,false,null,"m"]
[]
[]
[]
[null,null,"結果",null,{"$f":"'3輪車'!R55","v":""},null,"<",12]

{"sheet":"Sheet3","index":11,"n_rows":0,"n_cols":0,"rows_kept":0,"cut":false,"hidden":true,"merged":[]}